BEGIN:VCALENDAR
VERSION:2.0
PRODID:-//Tennispark TC &rsquo;t Laerveld - ECPv6.15.20//NONSGML v1.0//EN
CALSCALE:GREGORIAN
METHOD:PUBLISH
X-ORIGINAL-URL:https://www.laerveld.nl
X-WR-CALDESC:Evenementen voor Tennispark TC &rsquo;t Laerveld
REFRESH-INTERVAL;VALUE=DURATION:PT1H
X-Robots-Tag:noindex
X-PUBLISHED-TTL:PT1H
BEGIN:VTIMEZONE
TZID:Europe/Paris
BEGIN:DAYLIGHT
TZOFFSETFROM:+0100
TZOFFSETTO:+0200
TZNAME:CEST
DTSTART:20220327T010000
END:DAYLIGHT
BEGIN:STANDARD
TZOFFSETFROM:+0200
TZOFFSETTO:+0100
TZNAME:CET
DTSTART:20221030T010000
END:STANDARD
BEGIN:DAYLIGHT
TZOFFSETFROM:+0100
TZOFFSETTO:+0200
TZNAME:CEST
DTSTART:20230326T010000
END:DAYLIGHT
BEGIN:STANDARD
TZOFFSETFROM:+0200
TZOFFSETTO:+0100
TZNAME:CET
DTSTART:20231029T010000
END:STANDARD
BEGIN:DAYLIGHT
TZOFFSETFROM:+0100
TZOFFSETTO:+0200
TZNAME:CEST
DTSTART:20240331T010000
END:DAYLIGHT
BEGIN:STANDARD
TZOFFSETFROM:+0200
TZOFFSETTO:+0100
TZNAME:CET
DTSTART:20241027T010000
END:STANDARD
END:VTIMEZONE
BEGIN:VEVENT
DTSTART;TZID=Europe/Paris:20230518T090000
DTEND;TZID=Europe/Paris:20230518T123000
DTSTAMP:20260421T141330
CREATED:20230420T060836Z
LAST-MODIFIED:20230420T074807Z
UID:4164-1684400400-1684413000@www.laerveld.nl
SUMMARY:Hemelvaartstoernooi 09.00 tot 12.30 uur
DESCRIPTION:Wanneer: Donderdag 18 mei\nTijd: 09.00 tot 12.30 uur\nVoor wie: jeugd (voortgezet onderwijs) en senioren van het Laerveld\nInschrijfgeld: € 8\,50 p.p.\nHiervoor krijg je: \n\n2 kopjes koffie/thee\neen heerlijke\, uitgebreide lunch\neen toernooi in geloot teamverband\nen bovenal veel plezier!\n\nHeb je een trouwe supporter die ook graag komt lunchen? Van harte welkom! Graag wel vooraf opgeven en de kosten hiervoor zijn tevens € 8\,50 p.p.\nGeef je op voor maandag 15 mei via: activiteiten@laerveld.nl
URL:https://www.laerveld.nl/event/hemelvaartstoernooi/
END:VEVENT
END:VCALENDAR