BEGIN:VCALENDAR
VERSION:2.0
PRODID:-//Tennispark TC &rsquo;t Laerveld - ECPv6.15.20//NONSGML v1.0//EN
CALSCALE:GREGORIAN
METHOD:PUBLISH
X-ORIGINAL-URL:https://www.laerveld.nl
X-WR-CALDESC:Evenementen voor Tennispark TC &rsquo;t Laerveld
REFRESH-INTERVAL;VALUE=DURATION:PT1H
X-Robots-Tag:noindex
X-PUBLISHED-TTL:PT1H
BEGIN:VTIMEZONE
TZID:Europe/Paris
BEGIN:DAYLIGHT
TZOFFSETFROM:+0100
TZOFFSETTO:+0200
TZNAME:CEST
DTSTART:20220327T010000
END:DAYLIGHT
BEGIN:STANDARD
TZOFFSETFROM:+0200
TZOFFSETTO:+0100
TZNAME:CET
DTSTART:20221030T010000
END:STANDARD
BEGIN:DAYLIGHT
TZOFFSETFROM:+0100
TZOFFSETTO:+0200
TZNAME:CEST
DTSTART:20230326T010000
END:DAYLIGHT
BEGIN:STANDARD
TZOFFSETFROM:+0200
TZOFFSETTO:+0100
TZNAME:CET
DTSTART:20231029T010000
END:STANDARD
BEGIN:DAYLIGHT
TZOFFSETFROM:+0100
TZOFFSETTO:+0200
TZNAME:CEST
DTSTART:20240331T010000
END:DAYLIGHT
BEGIN:STANDARD
TZOFFSETFROM:+0200
TZOFFSETTO:+0100
TZNAME:CET
DTSTART:20241027T010000
END:STANDARD
BEGIN:DAYLIGHT
TZOFFSETFROM:+0100
TZOFFSETTO:+0200
TZNAME:CEST
DTSTART:20250330T010000
END:DAYLIGHT
BEGIN:STANDARD
TZOFFSETFROM:+0200
TZOFFSETTO:+0100
TZNAME:CET
DTSTART:20251026T010000
END:STANDARD
END:VTIMEZONE
BEGIN:VEVENT
DTSTART;TZID=Europe/Paris:20230526T190000
DTEND;TZID=Europe/Paris:20230526T220000
DTSTAMP:20260421T130943
CREATED:20230404T124729Z
LAST-MODIFIED:20230404T143726Z
UID:4132-1685127600-1685138400@www.laerveld.nl
SUMMARY:Voorjaarscompetitie Heren 1e klasse Dubbel 35+: 't Laerveld 1- Deventer 1 (aanvang 19:00)
DESCRIPTION:Baan 3 & baan 4 zijn gereserveerd
URL:https://www.laerveld.nl/event/voorjaarscompetitie-heren-1e-klasse-dubbel-35-t-laerveld-1-deventer-1-aanvang-1900/
END:VEVENT
BEGIN:VEVENT
DTSTART;TZID=Europe/Paris:20230526T190000
DTEND;TZID=Europe/Paris:20230526T220000
DTSTAMP:20260421T130943
CREATED:20230404T125626Z
LAST-MODIFIED:20230404T142741Z
UID:4146-1685127600-1685138400@www.laerveld.nl
SUMMARY:Voorjaarscompetitie Dames 4e klasse Dubbel 17+: 't Laerveld 3 - Groenlo 4 (aanvang 19:00)
DESCRIPTION:Baan 1 & baan 2 zijn gereserveerd
URL:https://www.laerveld.nl/event/voorjaarscompetitie-dames-4e-klasse-dubbel-17-t-laerveld-1-groenlo-4-aanvang-1900/
END:VEVENT
BEGIN:VEVENT
DTSTART;TZID=Europe/Paris:20230601T190000
DTEND;TZID=Europe/Paris:20230601T210000
DTSTAMP:20260421T130943
CREATED:20230404T123850Z
LAST-MODIFIED:20230404T124333Z
UID:4119-1685646000-1685653200@www.laerveld.nl
SUMMARY:Voorjaarscompetitie Gemengd 8 & 9: 't Laerveld 1- Winterswijk 1 (aanvang 19:00)
DESCRIPTION:Baan 1 & baan 2 zijn gereserveerd
URL:https://www.laerveld.nl/event/voorjaarscompetitie-t-laerveld-1-winterswijk-1-aanvang-1900/
END:VEVENT
BEGIN:VEVENT
DTSTART;TZID=Europe/Paris:20230602T190000
DTEND;TZID=Europe/Paris:20230602T220000
DTSTAMP:20260421T130943
CREATED:20230404T143304Z
LAST-MODIFIED:20230404T143304Z
UID:4152-1685732400-1685743200@www.laerveld.nl
SUMMARY:Voorjaarscompetitie Dames 2e klasse Dubbel 17+: 't Laerveld 1- Winterswijk 1 (aanvang 19:00)
DESCRIPTION:Baan 1 & baan 2 zijn gereserveerd
URL:https://www.laerveld.nl/event/voorjaarscompetitie-dames-2e-klasse-dubbel-17-t-laerveld-1-winterswijk-1-aanvang-1900/
END:VEVENT
BEGIN:VEVENT
DTSTART;TZID=Europe/Paris:20230609T190000
DTEND;TZID=Europe/Paris:20230609T220000
DTSTAMP:20260421T130943
CREATED:20230404T125053Z
LAST-MODIFIED:20230404T125053Z
UID:4138-1686337200-1686348000@www.laerveld.nl
SUMMARY:Voorjaarscompetitie Dames 2e klasse Dubbel 17+: 't Laerveld 1- Wildbaan 2 (aanvang 19:00)
DESCRIPTION:Baan 1 & baan 2 zijn gereserveerd
URL:https://www.laerveld.nl/event/voorjaarscompetitie-dames-2e-klasse-dubbel-17-t-laerveld-1-wildbaan-2-aanvang-1900/
END:VEVENT
BEGIN:VEVENT
DTSTART;TZID=Europe/Paris:20230609T190000
DTEND;TZID=Europe/Paris:20230609T220000
DTSTAMP:20260421T130943
CREATED:20230404T125357Z
LAST-MODIFIED:20230404T125357Z
UID:4142-1686337200-1686348000@www.laerveld.nl
SUMMARY:Voorjaarscompetitie Dames 4e klasse Dubbel 17+: 't Laerveld 1- Drijver's TC 3 (aanvang 19:00)
DESCRIPTION:Baan 3 & baan 4 zijn gereserveerd
URL:https://www.laerveld.nl/event/voorjaarscompetitie-dames-4e-klasse-dubbel-17-t-laerveld-1-drijvers-tc-3-aanvang-1900/
END:VEVENT
BEGIN:VEVENT
DTSTART;TZID=Europe/Paris:20230615T190000
DTEND;TZID=Europe/Paris:20230615T220000
DTSTAMP:20260421T130943
CREATED:20230501T133701Z
LAST-MODIFIED:20230501T133701Z
UID:4177-1686855600-1686866400@www.laerveld.nl
SUMMARY:Voorjaarscompetitie Gemengd 8 & 9: 't Laerveld 2- Winterswijk 1 (aanvang 19:00)
DESCRIPTION:Baan 1 & baan 2 zijn gereserveerd
URL:https://www.laerveld.nl/event/voorjaarscompetitie-gemengd-8-9-t-laerveld-2-winterswijk-1-aanvang-1900/
END:VEVENT
BEGIN:VEVENT
DTSTART;TZID=Europe/Paris:20240317T100000
DTEND;TZID=Europe/Paris:20240317T130000
DTSTAMP:20260421T130943
CREATED:20240228T091641Z
LAST-MODIFIED:20240228T091641Z
UID:4608-1710669600-1710680400@www.laerveld.nl
SUMMARY:Mini-Maxi toernooi voorjaar 2024
DESCRIPTION:
URL:https://www.laerveld.nl/event/mini-maxi-toernooi-voorjaar-2024/
END:VEVENT
BEGIN:VEVENT
DTSTART;TZID=Europe/Paris:20240324T180000
DTEND;TZID=Europe/Paris:20240330T220000
DTSTAMP:20260421T130943
CREATED:20240228T091254Z
LAST-MODIFIED:20240228T091254Z
UID:4606-1711303200-1711836000@www.laerveld.nl
SUMMARY:Berkel-B open toernooi 2024
DESCRIPTION:Berkel-B open toernooi 2024 \n \n 
URL:https://www.laerveld.nl/event/berkel-b-open-toernooi-2024/
END:VEVENT
END:VCALENDAR